BEGIN:VCALENDAR
VERSION:2.0
PRODID:-//Torsten Marx - ECPv6.2.8.1//NONSGML v1.0//EN
CALSCALE:GREGORIAN
METHOD:PUBLISH
X-WR-CALNAME:Torsten Marx
X-ORIGINAL-URL:https://torsten-marx.com
X-WR-CALDESC:Veranstaltungen für Torsten Marx
REFRESH-INTERVAL;VALUE=DURATION:PT1H
X-Robots-Tag:noindex
X-PUBLISHED-TTL:PT1H
BEGIN:VTIMEZONE
TZID:Europe/Berlin
BEGIN:DAYLIGHT
TZOFFSETFROM:+0100
TZOFFSETTO:+0200
TZNAME:CEST
DTSTART:20190331T010000
END:DAYLIGHT
BEGIN:STANDARD
TZOFFSETFROM:+0200
TZOFFSETTO:+0100
TZNAME:CET
DTSTART:20191027T010000
END:STANDARD
END:VTIMEZONE
BEGIN:VEVENT
DTSTART;VALUE=DATE:20190913
DTEND;VALUE=DATE:20190914
DTSTAMP:20260423T155043
CREATED:20190326T181158Z
LAST-MODIFIED:20190326T181158Z
UID:514-1568332800-1568419199@torsten-marx.com
SUMMARY:Feenpfuhlfest Anton Saefkow Platz (CherryDolls)
DESCRIPTION:
URL:https://torsten-marx.com/event/feenpfuhlfest-anton-saefkow-platz-cherrydolls/
END:VEVENT
BEGIN:VEVENT
DTSTART;VALUE=DATE:20190920
DTEND;VALUE=DATE:20190921
DTSTAMP:20260423T155043
CREATED:20190326T181225Z
LAST-MODIFIED:20190326T181225Z
UID:516-1568937600-1569023999@torsten-marx.com
SUMMARY:Volkssolidarität Greifswald (CherryDolls)
DESCRIPTION:
URL:https://torsten-marx.com/event/volkssolidaritaet-greifswald-cherrydolls/
END:VEVENT
END:VCALENDAR