BEGIN:VCALENDAR
VERSION:2.0
PRODID:-//Torsten Marx - ECPv6.2.8.1//NONSGML v1.0//EN
CALSCALE:GREGORIAN
METHOD:PUBLISH
X-ORIGINAL-URL:https://torsten-marx.com
X-WR-CALDESC:Veranstaltungen für Torsten Marx
REFRESH-INTERVAL;VALUE=DURATION:PT1H
X-Robots-Tag:noindex
X-PUBLISHED-TTL:PT1H
BEGIN:VTIMEZONE
TZID:Europe/Berlin
BEGIN:DAYLIGHT
TZOFFSETFROM:+0100
TZOFFSETTO:+0200
TZNAME:CEST
DTSTART:20190331T010000
END:DAYLIGHT
BEGIN:STANDARD
TZOFFSETFROM:+0200
TZOFFSETTO:+0100
TZNAME:CET
DTSTART:20191027T010000
END:STANDARD
END:VTIMEZONE
BEGIN:VEVENT
DTSTART;VALUE=DATE:20190801
DTEND;VALUE=DATE:20190802
DTSTAMP:20260423T173234
CREATED:20190326T180740Z
LAST-MODIFIED:20190326T180740Z
UID:498-1564617600-1564703999@torsten-marx.com
SUMMARY:Karlshagen (Elvis meets Helene)
DESCRIPTION:
URL:https://torsten-marx.com/event/karlshagen-elvis-meets-helene/
END:VEVENT
BEGIN:VEVENT
DTSTART;VALUE=DATE:20190805
DTEND;VALUE=DATE:20190806
DTSTAMP:20260423T173234
CREATED:20190326T180906Z
LAST-MODIFIED:20190326T180906Z
UID:502-1564963200-1565049599@torsten-marx.com
SUMMARY:Don Diego (Duo VaTo)
DESCRIPTION:
URL:https://torsten-marx.com/event/don-diego-duo-vato-3/
END:VEVENT
BEGIN:VEVENT
DTSTART;VALUE=DATE:20190807
DTEND;VALUE=DATE:20190808
DTSTAMP:20260423T173234
CREATED:20190326T180935Z
LAST-MODIFIED:20190326T180935Z
UID:504-1565136000-1565222399@torsten-marx.com
SUMMARY:Graal-Müritz (Helene meets Elvis)
DESCRIPTION:
URL:https://torsten-marx.com/event/graal-mueritz-helene-meets-elvis/
END:VEVENT
BEGIN:VEVENT
DTSTART;VALUE=DATE:20190813
DTEND;VALUE=DATE:20190814
DTSTAMP:20260423T173234
CREATED:20190326T181002Z
LAST-MODIFIED:20190326T181002Z
UID:506-1565654400-1565740799@torsten-marx.com
SUMMARY:Koserow (Helene Meets Elvis)
DESCRIPTION:
URL:https://torsten-marx.com/event/koserow-helene-meets-elvis/
END:VEVENT
BEGIN:VEVENT
DTSTART;VALUE=DATE:20190816
DTEND;VALUE=DATE:20190817
DTSTAMP:20260423T173234
CREATED:20190326T181026Z
LAST-MODIFIED:20190326T181026Z
UID:508-1565913600-1565999999@torsten-marx.com
SUMMARY:Zempin Konzertmuschel (CherryDolls)
DESCRIPTION:
URL:https://torsten-marx.com/event/zempin-konzertmuschel-cherrydolls/
END:VEVENT
BEGIN:VEVENT
DTSTART;VALUE=DATE:20190819
DTEND;VALUE=DATE:20190820
DTSTAMP:20260423T173234
CREATED:20190326T181057Z
LAST-MODIFIED:20190326T181057Z
UID:510-1566172800-1566259199@torsten-marx.com
SUMMARY:Don Diego (Duo VaTo)
DESCRIPTION:
URL:https://torsten-marx.com/event/don-diego-duo-vato-4/
END:VEVENT
BEGIN:VEVENT
DTSTART;VALUE=DATE:20190831
DTEND;VALUE=DATE:20190901
DTSTAMP:20260423T173234
CREATED:20190326T181125Z
LAST-MODIFIED:20190326T181125Z
UID:512-1567209600-1567295999@torsten-marx.com
SUMMARY:Konzert Karlshagen (CherryDolls)
DESCRIPTION:
URL:https://torsten-marx.com/event/konzert-karlshagen-cherrydolls/
END:VEVENT
END:VCALENDAR