BEGIN:VCALENDAR
VERSION:2.0
PRODID:-//Torsten Marx - ECPv6.2.8.1//NONSGML v1.0//EN
CALSCALE:GREGORIAN
METHOD:PUBLISH
X-WR-CALNAME:Torsten Marx
X-ORIGINAL-URL:https://torsten-marx.com
X-WR-CALDESC:Veranstaltungen für Torsten Marx
REFRESH-INTERVAL;VALUE=DURATION:PT1H
X-Robots-Tag:noindex
X-PUBLISHED-TTL:PT1H
BEGIN:VTIMEZONE
TZID:Europe/Berlin
BEGIN:DAYLIGHT
TZOFFSETFROM:+0100
TZOFFSETTO:+0200
TZNAME:CEST
DTSTART:20190331T010000
END:DAYLIGHT
BEGIN:STANDARD
TZOFFSETFROM:+0200
TZOFFSETTO:+0100
TZNAME:CET
DTSTART:20191027T010000
END:STANDARD
END:VTIMEZONE
BEGIN:VEVENT
DTSTART;VALUE=DATE:20190607
DTEND;VALUE=DATE:20190608
DTSTAMP:20260425T144122
CREATED:20190326T180032Z
LAST-MODIFIED:20190326T180032Z
UID:468-1559865600-1559951999@torsten-marx.com
SUMMARY:Stralsund Privat (CherryDolls)
DESCRIPTION:
URL:https://torsten-marx.com/event/stralsund-privat-cherrydolls/
END:VEVENT
BEGIN:VEVENT
DTSTART;TZID=Europe/Berlin:20190608T190000
DTEND;TZID=Europe/Berlin:20190608T220000
DTSTAMP:20260425T144122
CREATED:20190606T144251Z
LAST-MODIFIED:20190606T144251Z
UID:587-1560020400-1560031200@torsten-marx.com
SUMMARY:Zinnowitz Barfuß (Duo VaTo)
DESCRIPTION:
URL:https://torsten-marx.com/event/zinnowitz-barfuss-duo-vato/
END:VEVENT
BEGIN:VEVENT
DTSTART;TZID=Europe/Berlin:20190622T200000
DTEND;TZID=Europe/Berlin:20190623T000000
DTSTAMP:20260425T144122
CREATED:20190606T144328Z
LAST-MODIFIED:20190606T144328Z
UID:589-1561233600-1561248000@torsten-marx.com
SUMMARY:Sommersonnenwende (Duo VaTo)
DESCRIPTION:
URL:https://torsten-marx.com/event/sommersonnenwende-duo-vato/
END:VEVENT
BEGIN:VEVENT
DTSTART;VALUE=DATE:20190629
DTEND;VALUE=DATE:20190630
DTSTAMP:20260425T144122
CREATED:20190606T144404Z
LAST-MODIFIED:20190606T144404Z
UID:591-1561766400-1561852799@torsten-marx.com
SUMMARY:Privat Veranstaltung Lubmin (Duo VaTo)
DESCRIPTION:
URL:https://torsten-marx.com/event/privat-veranstaltung-lubmin-duo-vato/
END:VEVENT
END:VCALENDAR